BEGIN:VCALENDAR
PRODID:-//nuDatenautomaten//framework iCal4j //DE
VERSION:2.0
CALSCALE:GREGORIAN
BEGIN:VTIMEZONE
TZID:Europe/Berlin
LAST-MODIFIED:20260306T231828Z
TZURL:https://www.tzurl.org/zoneinfo/Europe/Berlin
X-LIC-LOCATION:Europe/Berlin
X-PROLEPTIC-TZNAME:LMT
BEGIN:STANDARD
TZNAME:CET
TZOFFSETFROM:+005328
TZOFFSETTO:+0100
DTSTART:18930401T000000
END:STANDARD
BEGIN:DAYLIGHT
TZNAME:CEST
TZOFFSETFROM:+0100
TZOFFSETTO:+0200
DTSTART:19160430T230000
RDATE:19400401T020000
RDATE:19430329T020000
RDATE:19460414T020000
RDATE:19470406T030000
RDATE:19480418T020000
RDATE:19490410T020000
RDATE:19800406T020000
END:DAYLIGHT
BEGIN:STANDARD
TZNAME:CET
TZOFFSETFROM:+0200
TZOFFSETTO:+0100
DTSTART:19161001T010000
RDATE:19421102T030000
RDATE:19431004T030000
RDATE:19441002T030000
RDATE:19451118T030000
RDATE:19461007T030000
END:STANDARD
BEGIN:DAYLIGHT
TZNAME:CEST
TZOFFSETFROM:+0100
TZOFFSETTO:+0200
DTSTART:19170416T020000
RRULE:FREQ=YEARLY;UNTIL=19180415T010000Z;BYMONTH=4;BYDAY=3MO
END:DAYLIGHT
BEGIN:STANDARD
TZNAME:CET
TZOFFSETFROM:+0200
TZOFFSETTO:+0100
DTSTART:19170917T030000
RRULE:FREQ=YEARLY;UNTIL=19180916T010000Z;BYMONTH=9;BYDAY=3MO
END:STANDARD
BEGIN:DAYLIGHT
TZNAME:CEST
TZOFFSETFROM:+0100
TZOFFSETTO:+0200
DTSTART:19440403T020000
RRULE:FREQ=YEARLY;UNTIL=19450402T010000Z;BYMONTH=4;BYDAY=1MO
END:DAYLIGHT
BEGIN:DAYLIGHT
TZNAME:CEMT
TZOFFSETFROM:+0200
TZOFFSETTO:+0300
DTSTART:19450524T020000
RDATE:19470511T030000
END:DAYLIGHT
BEGIN:DAYLIGHT
TZNAME:CEST
TZOFFSETFROM:+0300
TZOFFSETTO:+0200
DTSTART:19450924T030000
RDATE:19470629T030000
END:DAYLIGHT
BEGIN:STANDARD
TZNAME:CET
TZOFFSETFROM:+0100
TZOFFSETTO:+0100
DTSTART:19460101T000000
RDATE:19800101T000000
END:STANDARD
BEGIN:STANDARD
TZNAME:CET
TZOFFSETFROM:+0200
TZOFFSETTO:+0100
DTSTART:19471005T030000
RRULE:FREQ=YEARLY;UNTIL=19491002T010000Z;BYMONTH=10;BYDAY=1SU
END:STANDARD
BEGIN:STANDARD
TZNAME:CET
TZOFFSETFROM:+0200
TZOFFSETTO:+0100
DTSTART:19800928T030000
RRULE:FREQ=YEARLY;UNTIL=19950924T010000Z;BYMONTH=9;BYDAY=-1SU
END:STANDARD
BEGIN:DAYLIGHT
TZNAME:CEST
TZOFFSETFROM:+0100
TZOFFSETTO:+0200
DTSTART:19810329T020000
RRULE:FREQ=YEARLY;BYMONTH=3;BYDAY=-1SU
END:DAYLIGHT
BEGIN:STANDARD
TZNAME:CET
TZOFFSETFROM:+0200
TZOFFSETTO:+0100
DTSTART:19961027T030000
RRULE:FREQ=YEARLY;BYMONTH=10;BYDAY=-1SU
END:STANDARD
END:VTIMEZONE
BEGIN:VEVENT
DTSTAMP:20260421T050720Z
DTSTART;TZID=Europe/Berlin:20230923T160000
DTEND;TZID=Europe/Berlin:20230923T190000
SUMMARY:BK B Zusatz TSV Neusäß II vs TSV Krumbach (9)
UID:6f235751-70f0-4be7-bd01-7f112397da46
STATUS:CONFIRMED
LAST-MODIFIED:20230922T153845Z
DESCRIPTION:Zusatzsspieltage B\nBegegnungs-Nr: 9\nHeim: TSV Neusäß II\nGast: TSV Krumbach\nHalle: Mittelschule Gersthofen (86368-1)\nAdresse: Schubertstraße 64\, 86368 Gersthofen\n
LOCATION:Mittelschule Gersthofen (86368-1): Schubertstraße 64\, 86368 Gersthofen
CATEGORIES:Saison 2023/24
END:VEVENT
BEGIN:VEVENT
DTSTAMP:20260421T050720Z
DTSTART;TZID=Europe/Berlin:20230923T140000
DTEND;TZID=Europe/Berlin:20230923T170000
SUMMARY:BK B Zusatz TSV Neusäß II vs FSV Großaitingen (5)
UID:d3c74a16-bf6d-495e-ac77-5592fece9b20
STATUS:CONFIRMED
LAST-MODIFIED:20240108T201040Z
DESCRIPTION:Zusatzsspieltage B\nBegegnungs-Nr: 5\nHeim: TSV Neusäß II\nGast: FSV Großaitingen\nHalle: Mittelschule Gersthofen (86368-1)\nAdresse: Schubertstraße 64\, 86368 Gersthofen\n
LOCATION:Mittelschule Gersthofen (86368-1): Schubertstraße 64\, 86368 Gersthofen
CATEGORIES:Saison 2023/24
END:VEVENT
BEGIN:VEVENT
DTSTAMP:20260421T050720Z
DTSTART;TZID=Europe/Berlin:20231210T100000
DTEND;TZID=Europe/Berlin:20231210T130000
SUMMARY:BK B Nord TSV Neusäß II vs VfB Bächingen II (13)
UID:d648e980-53fa-4efe-a0d7-796bdad46425
STATUS:CONFIRMED
LAST-MODIFIED:20231211T044443Z
DESCRIPTION:Bezirksklasse B Nord\nBegegnungs-Nr: 13\nHeim: TSV Neusäß II\nGast: VfB Bächingen II\nHalle: Mittelschule Gersthofen (86368-1)\nAdresse: Schubertstraße 64\, 86368 Gersthofen\n
LOCATION:Mittelschule Gersthofen (86368-1): Schubertstraße 64\, 86368 Gersthofen
CATEGORIES:Saison 2023/24
END:VEVENT
BEGIN:VEVENT
DTSTAMP:20260421T050720Z
DTSTART;TZID=Europe/Berlin:20231210T120000
DTEND;TZID=Europe/Berlin:20231210T150000
SUMMARY:BK B Nord TSV Neusäß II vs VfL Günzburg II (15)
UID:8be20438-aa39-4981-a41b-020fcdf6eb70
STATUS:CONFIRMED
LAST-MODIFIED:20231211T043859Z
DESCRIPTION:Bezirksklasse B Nord\nBegegnungs-Nr: 15\nHeim: TSV Neusäß II\nGast: VfL Günzburg II\nHalle: Mittelschule Gersthofen (86368-1)\nAdresse: Schubertstraße 64\, 86368 Gersthofen\n
LOCATION:Mittelschule Gersthofen (86368-1): Schubertstraße 64\, 86368 Gersthofen
CATEGORIES:Saison 2023/24
END:VEVENT
BEGIN:VEVENT
DTSTAMP:20260421T050720Z
DTSTART;TZID=Europe/Berlin:20240406T160000
DTEND;TZID=Europe/Berlin:20240406T190000
SUMMARY:BK B Nord TSV Neusäß II vs TSV Aichach (29)
UID:c6ef5b83-a817-4072-b031-735fc1326f4a
STATUS:CONFIRMED
LAST-MODIFIED:20240408T144241Z
DESCRIPTION:Bezirksklasse B Nord\nBegegnungs-Nr: 29\nHeim: TSV Neusäß II\nGast: TSV Aichach\nHalle: Grundschule Aichach Nord (86551-1)\nAdresse: Mozartstr. 1\, 86551 Aichach\n
LOCATION:Grundschule Aichach Nord (86551-1): Mozartstr. 1\, 86551 Aichach
CATEGORIES:Saison 2023/24
END:VEVENT
BEGIN:VEVENT
DTSTAMP:20260421T050720Z
DTSTART;TZID=Europe/Berlin:20240406T140000
DTEND;TZID=Europe/Berlin:20240406T170000
SUMMARY:BK B Nord TSV Neusäß II vs TSV Aichach II (26)
UID:ea1aa916-46ac-4b9d-aa6d-8a8ca74f310f
STATUS:CONFIRMED
LAST-MODIFIED:20240408T144215Z
DESCRIPTION:Bezirksklasse B Nord\nBegegnungs-Nr: 26\nHeim: TSV Neusäß II\nGast: TSV Aichach II\nHalle: Grundschule Aichach Nord (86551-1)\nAdresse: Mozartstr. 1\, 86551 Aichach\n
LOCATION:Grundschule Aichach Nord (86551-1): Mozartstr. 1\, 86551 Aichach
CATEGORIES:Saison 2023/24
END:VEVENT
BEGIN:VEVENT
DTSTAMP:20260421T050720Z
DTSTART;TZID=Europe/Berlin:20240316T140000
DTEND;TZID=Europe/Berlin:20240316T170000
SUMMARY:BK B Nord TSV Neusäß II vs TSV 1909 Gersthofen IV (21)
UID:48820f21-87dc-46ef-b5cd-80c5b018ff77
STATUS:CONFIRMED
LAST-MODIFIED:20240408T144102Z
DESCRIPTION:Bezirksklasse B Nord\nBegegnungs-Nr: 21\nHeim: TSV Neusäß II\nGast: TSV 1909 Gersthofen IV\nHalle: Realschulhalle Neusäß (86356-1)\nAdresse: Landrat-Dr.-Frey-Straße 8\, 86356 Neusäß\n
LOCATION:Realschulhalle Neusäß (86356-1): Landrat-Dr.-Frey-Straße 8\, 86356 Neusäß
CATEGORIES:Saison 2023/24
END:VEVENT
BEGIN:VEVENT
DTSTAMP:20260421T050720Z
DTSTART;TZID=Europe/Berlin:20240121T150000
DTEND;TZID=Europe/Berlin:20240121T180000
SUMMARY:BK B Zusatz TV Augsburg 1847 V vs TSV Neusäß II (15)
UID:93ec5624-b0bd-4324-8d7c-0c5e2e5a259a
STATUS:CONFIRMED
LAST-MODIFIED:20230912T151800Z
DESCRIPTION:Zusatzsspieltage B\nBegegnungs-Nr: 15\nHeim: TV Augsburg 1847 V\nGast: TSV Neusäß II\nHalle: TV Augsburg 1847 (86199-1)\nAdresse: Gabelsberger Str. 64\, 86199 Augsburg\n
LOCATION:TV Augsburg 1847 (86199-1): Gabelsberger Str. 64\, 86199 Augsburg
CATEGORIES:Saison 2023/24
END:VEVENT
BEGIN:VEVENT
DTSTAMP:20260421T050720Z
DTSTART;TZID=Europe/Berlin:20240121T130000
DTEND;TZID=Europe/Berlin:20240121T160000
SUMMARY:BK B Zusatz SG Diedorf / Haunstetten VII vs TSV Neusäß II (14)
UID:f972259d-ccd5-4211-b14d-a3987f43122a
STATUS:CONFIRMED
LAST-MODIFIED:20231002T151141Z
DESCRIPTION:Zusatzsspieltage B\nBegegnungs-Nr: 14\nHeim: SG Diedorf / Haunstetten VII\nGast: TSV Neusäß II\nHalle: TV Augsburg 1847 (86199-1)\nAdresse: Gabelsberger Str. 64\, 86199 Augsburg\n
LOCATION:TV Augsburg 1847 (86199-1): Gabelsberger Str. 64\, 86199 Augsburg
CATEGORIES:Saison 2023/24
END:VEVENT
BEGIN:VEVENT
DTSTAMP:20260421T050720Z
DTSTART;TZID=Europe/Berlin:20231111T140000
DTEND;TZID=Europe/Berlin:20231111T170000
SUMMARY:BK B Nord TSV 1909 Gersthofen IV vs TSV Neusäß II (8)
UID:6ab9057d-9ce6-4bab-8cf6-d590aa8e4452
STATUS:CONFIRMED
LAST-MODIFIED:20231211T044137Z
DESCRIPTION:Bezirksklasse B Nord\nBegegnungs-Nr: 8\nHeim: TSV 1909 Gersthofen IV\nGast: TSV Neusäß II\nHalle: Mittelschule Gersthofen (86368-1)\nAdresse: Schubertstraße 64\, 86368 Gersthofen\n
LOCATION:Mittelschule Gersthofen (86368-1): Schubertstraße 64\, 86368 Gersthofen
CATEGORIES:Saison 2023/24
END:VEVENT
BEGIN:VEVENT
DTSTAMP:20260421T050720Z
DTSTART;TZID=Europe/Berlin:20231008T004000
DTEND;TZID=Europe/Berlin:20231008T034000
SUMMARY:BK B Nord TSV Aichach II vs TSV Neusäß II (4)
UID:f3c74bc4-c01c-489f-8b19-160079ecc943
STATUS:CONFIRMED
LAST-MODIFIED:20231211T044119Z
DESCRIPTION:Bezirksklasse B Nord\nBegegnungs-Nr: 4\nHeim: TSV Aichach II\nGast: TSV Neusäß II\nHalle: Grundschule Aichach Nord (86551-1)\nAdresse: Mozartstr. 1\, 86551 Aichach\n
LOCATION:Grundschule Aichach Nord (86551-1): Mozartstr. 1\, 86551 Aichach
CATEGORIES:Saison 2023/24
END:VEVENT
BEGIN:VEVENT
DTSTAMP:20260421T050720Z
DTSTART;TZID=Europe/Berlin:20231007T230000
DTEND;TZID=Europe/Berlin:20231008T020000
SUMMARY:BK B Nord TSV Aichach vs TSV Neusäß II (2)
UID:de8502d3-f231-4bbb-b3f6-5a7b3472f737
STATUS:CONFIRMED
LAST-MODIFIED:20231211T043923Z
DESCRIPTION:Bezirksklasse B Nord\nBegegnungs-Nr: 2\nHeim: TSV Aichach\nGast: TSV Neusäß II\nHalle: Grundschule Aichach Nord (86551-1)\nAdresse: Mozartstr. 1\, 86551 Aichach\n
LOCATION:Grundschule Aichach Nord (86551-1): Mozartstr. 1\, 86551 Aichach
CATEGORIES:Saison 2023/24
END:VEVENT
BEGIN:VEVENT
DTSTAMP:20260421T050720Z
DTSTART;TZID=Europe/Berlin:20240224T160000
DTEND;TZID=Europe/Berlin:20240224T190000
SUMMARY:BK B Nord VfB Bächingen II vs TSV Neusäß II (20)
UID:5c22122d-c9c6-47c9-b829-b92541a8f3ba
STATUS:CONFIRMED
LAST-MODIFIED:20240408T144042Z
DESCRIPTION:Bezirksklasse B Nord\nBegegnungs-Nr: 20\nHeim: VfB Bächingen II\nGast: TSV Neusäß II\nHalle: Bachtalhalle (89428-1)\nAdresse: Schulstraße 8\, 89428 Syrgenstein\n
LOCATION:Bachtalhalle (89428-1): Schulstraße 8\, 89428 Syrgenstein
CATEGORIES:Saison 2023/24
END:VEVENT
BEGIN:VEVENT
DTSTAMP:20260421T050720Z
DTSTART;TZID=Europe/Berlin:20240224T140000
DTEND;TZID=Europe/Berlin:20240224T170000
SUMMARY:BK B Nord VfL Günzburg II vs TSV Neusäß II (17)
UID:9a483741-b430-458d-8cdc-dadb07141d9e
STATUS:CONFIRMED
LAST-MODIFIED:20240408T144007Z
DESCRIPTION:Bezirksklasse B Nord\nBegegnungs-Nr: 17\nHeim: VfL Günzburg II\nGast: TSV Neusäß II\nHalle: Bachtalhalle (89428-1)\nAdresse: Schulstraße 8\, 89428 Syrgenstein\n
LOCATION:Bachtalhalle (89428-1): Schulstraße 8\, 89428 Syrgenstein
CATEGORIES:Saison 2023/24
END:VEVENT
END:VCALENDAR
