BEGIN:VCALENDAR
PRODID:-//nuDatenautomaten//framework iCal4j //DE
VERSION:2.0
CALSCALE:GREGORIAN
BEGIN:VTIMEZONE
TZID:Europe/Berlin
LAST-MODIFIED:20260306T231828Z
TZURL:https://www.tzurl.org/zoneinfo/Europe/Berlin
X-LIC-LOCATION:Europe/Berlin
X-PROLEPTIC-TZNAME:LMT
BEGIN:STANDARD
TZNAME:CET
TZOFFSETFROM:+005328
TZOFFSETTO:+0100
DTSTART:18930401T000000
END:STANDARD
BEGIN:DAYLIGHT
TZNAME:CEST
TZOFFSETFROM:+0100
TZOFFSETTO:+0200
DTSTART:19160430T230000
RDATE:19400401T020000
RDATE:19430329T020000
RDATE:19460414T020000
RDATE:19470406T030000
RDATE:19480418T020000
RDATE:19490410T020000
RDATE:19800406T020000
END:DAYLIGHT
BEGIN:STANDARD
TZNAME:CET
TZOFFSETFROM:+0200
TZOFFSETTO:+0100
DTSTART:19161001T010000
RDATE:19421102T030000
RDATE:19431004T030000
RDATE:19441002T030000
RDATE:19451118T030000
RDATE:19461007T030000
END:STANDARD
BEGIN:DAYLIGHT
TZNAME:CEST
TZOFFSETFROM:+0100
TZOFFSETTO:+0200
DTSTART:19170416T020000
RRULE:FREQ=YEARLY;UNTIL=19180415T010000Z;BYMONTH=4;BYDAY=3MO
END:DAYLIGHT
BEGIN:STANDARD
TZNAME:CET
TZOFFSETFROM:+0200
TZOFFSETTO:+0100
DTSTART:19170917T030000
RRULE:FREQ=YEARLY;UNTIL=19180916T010000Z;BYMONTH=9;BYDAY=3MO
END:STANDARD
BEGIN:DAYLIGHT
TZNAME:CEST
TZOFFSETFROM:+0100
TZOFFSETTO:+0200
DTSTART:19440403T020000
RRULE:FREQ=YEARLY;UNTIL=19450402T010000Z;BYMONTH=4;BYDAY=1MO
END:DAYLIGHT
BEGIN:DAYLIGHT
TZNAME:CEMT
TZOFFSETFROM:+0200
TZOFFSETTO:+0300
DTSTART:19450524T020000
RDATE:19470511T030000
END:DAYLIGHT
BEGIN:DAYLIGHT
TZNAME:CEST
TZOFFSETFROM:+0300
TZOFFSETTO:+0200
DTSTART:19450924T030000
RDATE:19470629T030000
END:DAYLIGHT
BEGIN:STANDARD
TZNAME:CET
TZOFFSETFROM:+0100
TZOFFSETTO:+0100
DTSTART:19460101T000000
RDATE:19800101T000000
END:STANDARD
BEGIN:STANDARD
TZNAME:CET
TZOFFSETFROM:+0200
TZOFFSETTO:+0100
DTSTART:19471005T030000
RRULE:FREQ=YEARLY;UNTIL=19491002T010000Z;BYMONTH=10;BYDAY=1SU
END:STANDARD
BEGIN:STANDARD
TZNAME:CET
TZOFFSETFROM:+0200
TZOFFSETTO:+0100
DTSTART:19800928T030000
RRULE:FREQ=YEARLY;UNTIL=19950924T010000Z;BYMONTH=9;BYDAY=-1SU
END:STANDARD
BEGIN:DAYLIGHT
TZNAME:CEST
TZOFFSETFROM:+0100
TZOFFSETTO:+0200
DTSTART:19810329T020000
RRULE:FREQ=YEARLY;BYMONTH=3;BYDAY=-1SU
END:DAYLIGHT
BEGIN:STANDARD
TZNAME:CET
TZOFFSETFROM:+0200
TZOFFSETTO:+0100
DTSTART:19961027T030000
RRULE:FREQ=YEARLY;BYMONTH=10;BYDAY=-1SU
END:STANDARD
END:VTIMEZONE
BEGIN:VEVENT
DTSTAMP:20260420T082157Z
DTSTART;TZID=Europe/Berlin:20231022T140000
DTEND;TZID=Europe/Berlin:20231022T170000
SUMMARY:1. Bundesliga 1. BC Sbr.-Bischmisheim vs SV Fun-Ball Dortelweil (27)
UID:460a0c18-0bdb-48f4-992b-64e97c84d8b1
STATUS:CONFIRMED
LAST-MODIFIED:20231022T140523Z
DESCRIPTION:1. Bundesliga\nBegegnungs-Nr: 27\nHeim: 1. BC Sbr.-Bischmisheim\nGast: SV Fun-Ball Dortelweil\n
LOCATION:
CATEGORIES:Saison 2023/24
END:VEVENT
BEGIN:VEVENT
DTSTAMP:20260420T082157Z
DTSTART;TZID=Europe/Berlin:20231007T163000
DTEND;TZID=Europe/Berlin:20231007T193000
SUMMARY:1. Bundesliga 1. BC Sbr.-Bischmisheim vs SG Schorndorf (14)
UID:4d1c06bf-2054-4c3a-bda7-2f8353a6a567
STATUS:CONFIRMED
LAST-MODIFIED:20231007T192253Z
DESCRIPTION:1. Bundesliga\nBegegnungs-Nr: 14\nHeim: 1. BC Sbr.-Bischmisheim\nGast: SG Schorndorf\n
LOCATION:
CATEGORIES:Saison 2023/24
END:VEVENT
BEGIN:VEVENT
DTSTAMP:20260420T082157Z
DTSTART;TZID=Europe/Berlin:20231008T140000
DTEND;TZID=Europe/Berlin:20231008T170000
SUMMARY:1. Bundesliga 1. BC Sbr.-Bischmisheim vs TSV Neuhausen-Nymphenburg (19)
UID:6a2d263a-0a1c-4ae0-ace3-27069b58e39b
STATUS:CONFIRMED
LAST-MODIFIED:20231008T135910Z
DESCRIPTION:1. Bundesliga\nBegegnungs-Nr: 19\nHeim: 1. BC Sbr.-Bischmisheim\nGast: TSV Neuhausen-Nymphenburg\n
LOCATION:
CATEGORIES:Saison 2023/24
END:VEVENT
BEGIN:VEVENT
DTSTAMP:20260420T082157Z
DTSTART;TZID=Europe/Berlin:20231021T163000
DTEND;TZID=Europe/Berlin:20231021T193000
SUMMARY:1. Bundesliga 1. BC Sbr.-Bischmisheim vs TV Refrath (23)
UID:b8091239-cb09-4d71-872b-d01e96b208e6
STATUS:CONFIRMED
LAST-MODIFIED:20231119T203924Z
DESCRIPTION:1. Bundesliga\nBegegnungs-Nr: 23\nHeim: 1. BC Sbr.-Bischmisheim\nGast: TV Refrath\n
LOCATION:
CATEGORIES:Saison 2023/24
END:VEVENT
BEGIN:VEVENT
DTSTAMP:20260420T082157Z
DTSTART;TZID=Europe/Berlin:20240316T163000
DTEND;TZID=Europe/Berlin:20240316T193000
SUMMARY:1. Bundesliga 1. BC Sbr.-Bischmisheim vs 1.BC Wipperfeld (30)
UID:df002159-6c4d-40c3-99cb-dc40cedbbe1e
STATUS:CONFIRMED
LAST-MODIFIED:20240316T231352Z
DESCRIPTION:1. Bundesliga\nBegegnungs-Nr: 30\nHeim: 1. BC Sbr.-Bischmisheim\nGast: 1.BC Wipperfeld\n
LOCATION:
CATEGORIES:Saison 2023/24
END:VEVENT
BEGIN:VEVENT
DTSTAMP:20260420T082157Z
DTSTART;TZID=Europe/Berlin:20240317T140000
DTEND;TZID=Europe/Berlin:20240317T170000
SUMMARY:1. Bundesliga 1. BC Sbr.-Bischmisheim vs Union Lüdinghausen (33)
UID:420157d7-4c73-4453-84ed-333550070956
STATUS:CONFIRMED
LAST-MODIFIED:20240317T151011Z
DESCRIPTION:1. Bundesliga\nBegegnungs-Nr: 33\nHeim: 1. BC Sbr.-Bischmisheim\nGast: Union Lüdinghausen\n
LOCATION:
CATEGORIES:Saison 2023/24
END:VEVENT
BEGIN:VEVENT
DTSTAMP:20260420T082157Z
DTSTART;TZID=Europe/Berlin:20240406T140000
DTEND;TZID=Europe/Berlin:20240406T170000
SUMMARY:Pl-Off VF 1. BC Sbr.-Bischmisheim vs Blau-Weiß Wittorf NMS (1)
UID:c57f9e58-755b-4674-812d-8e69ff4cc69c
STATUS:CONFIRMED
LAST-MODIFIED:20240406T130025Z
DESCRIPTION:Bundesliga Play-Off Viertelfinale\nBegegnungs-Nr: 1\nHeim: 1. BC Sbr.-Bischmisheim\nGast: Blau-Weiß Wittorf NMS\n
LOCATION:
CATEGORIES:Saison 2023/24
END:VEVENT
BEGIN:VEVENT
DTSTAMP:20260420T082157Z
DTSTART;TZID=Europe/Berlin:20231111T150000
DTEND;TZID=Europe/Berlin:20231111T180000
SUMMARY:1. Bundesliga 1.BC Wipperfeld vs 1. BC Sbr.-Bischmisheim (30)
UID:dc456203-bd75-449f-829d-2b598c9f9646
STATUS:CONFIRMED
LAST-MODIFIED:20231111T231226Z
DESCRIPTION:1. Bundesliga\nBegegnungs-Nr: 30\nHeim: 1.BC Wipperfeld\nGast: 1. BC Sbr.-Bischmisheim\n
LOCATION:
CATEGORIES:Saison 2023/24
END:VEVENT
BEGIN:VEVENT
DTSTAMP:20260420T082157Z
DTSTART;TZID=Europe/Berlin:20231112T113000
DTEND;TZID=Europe/Berlin:20231112T143000
SUMMARY:1. Bundesliga Union Lüdinghausen vs 1. BC Sbr.-Bischmisheim (33)
UID:01bf3b48-0ad0-4503-be6d-d1090907f8b1
STATUS:CONFIRMED
LAST-MODIFIED:20231112T201944Z
DESCRIPTION:1. Bundesliga\nBegegnungs-Nr: 33\nHeim: Union Lüdinghausen\nGast: 1. BC Sbr.-Bischmisheim\n
LOCATION:
CATEGORIES:Saison 2023/24
END:VEVENT
BEGIN:VEVENT
DTSTAMP:20260420T082157Z
DTSTART;TZID=Europe/Berlin:20230923T140000
DTEND;TZID=Europe/Berlin:20230923T170000
SUMMARY:1. Bundesliga Blau-Weiß Wittorf NMS vs 1. BC Sbr.-Bischmisheim (1)
UID:1298e436-d0f8-4e2d-960f-1036c3d2ce46
STATUS:CONFIRMED
LAST-MODIFIED:20230923T151912Z
DESCRIPTION:1. Bundesliga\nBegegnungs-Nr: 1\nHeim: Blau-Weiß Wittorf NMS\nGast: 1. BC Sbr.-Bischmisheim\n
LOCATION:
CATEGORIES:Saison 2023/24
END:VEVENT
BEGIN:VEVENT
DTSTAMP:20260420T082157Z
DTSTART;TZID=Europe/Berlin:20230926T183000
DTEND;TZID=Europe/Berlin:20230926T213000
SUMMARY:1. Bundesliga 1.BC Beuel vs 1. BC Sbr.-Bischmisheim (9)
UID:c8da98c7-3731-4684-ac24-6037e1808058
STATUS:CONFIRMED
LAST-MODIFIED:20230930T080957Z
DESCRIPTION:1. Bundesliga\nBegegnungs-Nr: 9\nHeim: 1.BC Beuel\nGast: 1. BC Sbr.-Bischmisheim\n
LOCATION:
CATEGORIES:Saison 2023/24
END:VEVENT
BEGIN:VEVENT
DTSTAMP:20260420T082157Z
DTSTART;TZID=Europe/Berlin:20240127T150000
DTEND;TZID=Europe/Berlin:20240127T180000
SUMMARY:1. Bundesliga SG Schorndorf vs 1. BC Sbr.-Bischmisheim (15)
UID:684c3793-24e9-43b6-9fad-8272944bf197
STATUS:CONFIRMED
LAST-MODIFIED:20240127T170517Z
DESCRIPTION:1. Bundesliga\nBegegnungs-Nr: 15\nHeim: SG Schorndorf\nGast: 1. BC Sbr.-Bischmisheim\n
LOCATION:
CATEGORIES:Saison 2023/24
END:VEVENT
BEGIN:VEVENT
DTSTAMP:20260420T082157Z
DTSTART;TZID=Europe/Berlin:20240128T140000
DTEND;TZID=Europe/Berlin:20240128T170000
SUMMARY:1. Bundesliga TSV Neuhausen-Nymphenburg vs 1. BC Sbr.-Bischmisheim (20)
UID:5dbd7ae3-8319-48cf-93a5-77ea6c05336d
STATUS:CONFIRMED
LAST-MODIFIED:20240128T152508Z
DESCRIPTION:1. Bundesliga\nBegegnungs-Nr: 20\nHeim: TSV Neuhausen-Nymphenburg\nGast: 1. BC Sbr.-Bischmisheim\nHalle: Sporthalle TSV Neuhausen-Nymphenburg (80638-1)\nAdresse: Stievestr. 15\, 80638 München\n
LOCATION:Sporthalle TSV Neuhausen-Nymphenburg (80638-1): Stievestr. 15\, 80638 München
CATEGORIES:Saison 2023/24
END:VEVENT
BEGIN:VEVENT
DTSTAMP:20260420T082157Z
DTSTART;TZID=Europe/Berlin:20240224T170000
DTEND;TZID=Europe/Berlin:20240224T200000
SUMMARY:1. Bundesliga TV Refrath vs 1. BC Sbr.-Bischmisheim (23)
UID:1bb411a1-38aa-42f4-87d9-38fca161f96d
STATUS:CONFIRMED
LAST-MODIFIED:20240224T182526Z
DESCRIPTION:1. Bundesliga\nBegegnungs-Nr: 23\nHeim: TV Refrath\nGast: 1. BC Sbr.-Bischmisheim\nHalle: Halle Steinbreche ((H))\nAdresse: Dolmanstraße (gegenüber Nr. 46)\, 51427 Bergisch Gladbach (Refrath)\n
LOCATION:Halle Steinbreche ((H)): Dolmanstraße (gegenüber Nr. 46)\, 51427 Bergisch Gladbach (Refrath)
CATEGORIES:Saison 2023/24
END:VEVENT
BEGIN:VEVENT
DTSTAMP:20260420T082157Z
DTSTART;TZID=Europe/Berlin:20240225T113000
DTEND;TZID=Europe/Berlin:20240225T143000
SUMMARY:1. Bundesliga SV Fun-Ball Dortelweil vs 1. BC Sbr.-Bischmisheim (25)
UID:351ce567-fb7f-48a6-a2f0-8c816a32cb13
STATUS:CONFIRMED
LAST-MODIFIED:20240225T133327Z
DESCRIPTION:1. Bundesliga\nBegegnungs-Nr: 25\nHeim: SV Fun-Ball Dortelweil\nGast: 1. BC Sbr.-Bischmisheim\nHalle: Sporthalle der Europäischen Schule Rhein-Main  (61118-02)\nAdresse: Theodor-Heuss Straße 65\, 61118 Bad Vilbel\n
LOCATION:Sporthalle der Europäischen Schule Rhein-Main  (61118-02): Theodor-Heuss Straße 65\, 61118 Bad Vilbel
CATEGORIES:Saison 2023/24
END:VEVENT
BEGIN:VEVENT
DTSTAMP:20260420T082157Z
DTSTART;TZID=Europe/Berlin:20240420T151500
DTEND;TZID=Europe/Berlin:20240420T181500
SUMMARY:Pl-Off HF/F 1.BC Wipperfeld vs 1. BC Sbr.-Bischmisheim (2)
UID:16f367e4-2172-47a2-ace6-85042b804a5f
STATUS:CONFIRMED
LAST-MODIFIED:20240420T181148Z
DESCRIPTION:Bundesliga Play-Off FinalFour\nBegegnungs-Nr: 2\nHeim: 1.BC Wipperfeld\nGast: 1. BC Sbr.-Bischmisheim\n
LOCATION:
CATEGORIES:Saison 2023/24
END:VEVENT
END:VCALENDAR
